BEGIN:VCALENDAR
VERSION:2.0
PRODID:-//InvisionCommunity Events 4.7.24//EN
METHOD:PUBLISH
CALSCALE:GREGORIAN
REFRESH-INTERVAL:PT15M
X-PUBLISHED-TTL:PT15M
X-WR-CALNAME:DCN Kalender
NAME:DCN Kalender
BEGIN:VTIMEZONE
TZID:Europe/London
TZURL:http://tzurl.org/zoneinfo/Europe/London
X-LIC-LOCATION:Europe/London
BEGIN:DAYLIGHT
TZOFFSETFROM:+0000
TZOFFSETTO:+0100
TZNAME:BST
DTSTART:20170326T020000Z
RRULE:FREQ=YEARLY;BYMONTH=3;BYDAY=-1SU
END:DAYLIGHT
BEGIN:STANDARD
TZOFFSETFROM:+0100
TZOFFSETTO:+0000
TZNAME:GMT
DTSTART:20171029T020000Z
RRULE:FREQ=YEARLY;BYMONTH=10;BYDAY=-1SU
END:STANDARD
END:VTIMEZONE
BEGIN:VTIMEZONE
TZID:Europe/London
TZURL:http://tzurl.org/zoneinfo/Europe/London
X-LIC-LOCATION:Europe/London
BEGIN:DAYLIGHT
TZOFFSETFROM:+0000
TZOFFSETTO:+0100
TZNAME:BST
DTSTART:20160327T020000Z
RRULE:FREQ=YEARLY;BYMONTH=3;BYDAY=-1SU
END:DAYLIGHT
BEGIN:STANDARD
TZOFFSETFROM:+0100
TZOFFSETTO:+0000
TZNAME:GMT
DTSTART:20161030T020000Z
RRULE:FREQ=YEARLY;BYMONTH=10;BYDAY=-1SU
END:STANDARD
END:VTIMEZONE
BEGIN:VTIMEZONE
TZID:Europe/London
TZURL:http://tzurl.org/zoneinfo/Europe/London
X-LIC-LOCATION:Europe/London
BEGIN:DAYLIGHT
TZOFFSETFROM:+0000
TZOFFSETTO:+0100
TZNAME:BST
DTSTART:20130331T020000Z
RRULE:FREQ=YEARLY;BYMONTH=3;BYDAY=-1SU
END:DAYLIGHT
BEGIN:STANDARD
TZOFFSETFROM:+0100
TZOFFSETTO:+0000
TZNAME:GMT
DTSTART:20131027T020000Z
RRULE:FREQ=YEARLY;BYMONTH=10;BYDAY=-1SU
END:STANDARD
END:VTIMEZONE
BEGIN:VTIMEZONE
TZID:Europe/London
TZURL:http://tzurl.org/zoneinfo/Europe/London
X-LIC-LOCATION:Europe/London
BEGIN:DAYLIGHT
TZOFFSETFROM:+0000
TZOFFSETTO:+0100
TZNAME:BST
DTSTART:20120325T020000Z
RRULE:FREQ=YEARLY;BYMONTH=3;BYDAY=-1SU
END:DAYLIGHT
BEGIN:STANDARD
TZOFFSETFROM:+0100
TZOFFSETTO:+0000
TZNAME:GMT
DTSTART:20121028T020000Z
RRULE:FREQ=YEARLY;BYMONTH=10;BYDAY=-1SU
END:STANDARD
END:VTIMEZONE
BEGIN:VTIMEZONE
TZID:Europe/London
TZURL:http://tzurl.org/zoneinfo/Europe/London
X-LIC-LOCATION:Europe/London
BEGIN:DAYLIGHT
TZOFFSETFROM:+0000
TZOFFSETTO:+0100
TZNAME:BST
DTSTART:20100328T020000Z
RRULE:FREQ=YEARLY;BYMONTH=3;BYDAY=-1SU
END:DAYLIGHT
BEGIN:STANDARD
TZOFFSETFROM:+0100
TZOFFSETTO:+0000
TZNAME:GMT
DTSTART:20101031T020000Z
RRULE:FREQ=YEARLY;BYMONTH=10;BYDAY=-1SU
END:STANDARD
END:VTIMEZONE
BEGIN:VTIMEZONE
TZID:Europe/London
TZURL:http://tzurl.org/zoneinfo/Europe/London
X-LIC-LOCATION:Europe/London
BEGIN:DAYLIGHT
TZOFFSETFROM:+0000
TZOFFSETTO:+0100
TZNAME:BST
DTSTART:20090329T020000Z
RRULE:FREQ=YEARLY;BYMONTH=3;BYDAY=-1SU
END:DAYLIGHT
BEGIN:STANDARD
TZOFFSETFROM:+0100
TZOFFSETTO:+0000
TZNAME:GMT
DTSTART:20091025T020000Z
RRULE:FREQ=YEARLY;BYMONTH=10;BYDAY=-1SU
END:STANDARD
END:VTIMEZONE
BEGIN:VTIMEZONE
TZID:Europe/London
TZURL:http://tzurl.org/zoneinfo/Europe/London
X-LIC-LOCATION:Europe/London
BEGIN:DAYLIGHT
TZOFFSETFROM:+0000
TZOFFSETTO:+0100
TZNAME:BST
DTSTART:20070325T020000Z
RRULE:FREQ=YEARLY;BYMONTH=3;BYDAY=-1SU
END:DAYLIGHT
BEGIN:STANDARD
TZOFFSETFROM:+0100
TZOFFSETTO:+0000
TZNAME:GMT
DTSTART:20071028T020000Z
RRULE:FREQ=YEARLY;BYMONTH=10;BYDAY=-1SU
END:STANDARD
END:VTIMEZONE
BEGIN:VEVENT
SUMMARY:Burger og Bil Åssiden Grill
DTSTAMP:20170330T074736Z
SEQUENCE:0
UID:17-1-483381b4310817ada6e60e876399cdde@www.detailersclub.no
ORGANIZER;CN="Dennis":forum@detailersclub.no
DESCRIPTION:\n	Burger og Bil 9 april... ja\, det rimer  \n\n\n\n	 \n\
	n\n\n	I og med været er knall om dagen kunne det vært en ide med året
	s første Burger og Bil treff på Åssiden grill i Drammen med andre Detai
	ler`s i området.\n\n\n\n	 \n\n\n\n	Her er hvor vi skal treffes kl 1400 
	til ca 1800 søndag 9 april har dere et sted og et klokkeslett folket kan 
	komme.. Gode parkeringsmuligheter som oftest.\n
DTSTART:20170409T120000Z
DTEND:20170409T160000Z
ATTENDEE;CN="Dennis";CUTYPE=INDIVIDUAL;PARTSTAT=ACCEPTED:for
	um@detailersclub.no
ATTENDEE;CN="magne";CUTYPE=INDIVIDUAL;PARTSTAT=ACCEPTED:foru
	m@detailersclub.no
ATTENDEE;CN="teamanimal";CUTYPE=INDIVIDUAL;PARTSTAT=ACCEPTED
	:forum@detailersclub.no
ATTENDEE;CN="truhaa";CUTYPE=INDIVIDUAL;PARTSTAT=ACCEPTED:for
	um@detailersclub.no
END:VEVENT
BEGIN:VEVENT
SUMMARY:DCN Burgertreff
DTSTAMP:20160518T123822Z
SEQUENCE:0
UID:16-1-483381b4310817ada6e60e876399cdde@www.detailersclub.no
ORGANIZER;CN="Dennis":forum@detailersclub.no
DESCRIPTION:\n	Vi er en gjeng i drammensdistriktet som tenkte å samle o
	ss for en liten DCNburgertreff.\n\n\n\n	 \n\n\n\n	Dato for treffet blir 2
	9 mai.\n\n\n\n	Åssiden Grill (Rosenkrantzgata 280\n\n\n\n	3027 Drammen)\n
	\n\n\n	klokkeslettet for treffet blir da 15:00 tiden.\n\n\n\n	Møt opp nyv
	asket med godt mot\n\n\n\n	 \n\n\n\n	Om noen har litt småplukk for mye i
	 garasjen så ta det med så kan vi ta litt kjøp og salg også.\n\n\n\n	
	 \n\n\n\n	vi håper jo selvfølgelig på bedre vær enn vi hadde i fjor.\
	n\n\n\n	 \n\n\n\n	Mvh Jack (Teamanimal)\n\n\n\n	 \n\n\n\n	\n\n\n\n	 \n
DTSTART:20160529T130000Z
DTEND:20160529T180000Z
ATTENDEE;CN="Dennis";CUTYPE=INDIVIDUAL;PARTSTAT=ACCEPTED:for
	um@detailersclub.no
ATTENDEE;CN="magne";CUTYPE=INDIVIDUAL;PARTSTAT=ACCEPTED:foru
	m@detailersclub.no
ATTENDEE;CN="teamanimal";CUTYPE=INDIVIDUAL;PARTSTAT=ACCEPTED
	:forum@detailersclub.no
ATTENDEE;CN="Øyvind G";CUTYPE=INDIVIDUAL;PARTSTAT=ACCEPTED:
	forum@detailersclub.no
ATTENDEE;CN="polishduden";CUTYPE=INDIVIDUAL;PARTSTAT=ACCEPTE
	D:forum@detailersclub.no
END:VEVENT
BEGIN:VEVENT
SUMMARY:RUPES Bigfoot Seminar
DTSTAMP:20160206T211028Z
SEQUENCE:0
UID:15-1-483381b4310817ada6e60e876399cdde@www.detailersclub.no
ORGANIZER;CN="Dennis":forum@detailersclub.no
DESCRIPTION:\n\n\n	Holgers\, importøren av RUPES bigfoot drar i gang e
	t treff med trøkk i Tønsberg 2016. Det største treffet innenfor faget 
	detailing som har vært på Norsk sokkel\, og muligens det største i Skan
	dinavia? Helt klart en milepæl for oss som er glad i bilpleie og riktig 
	bilhold. Det har vært en rivende utvikling innen dette feltet\, og vi ha
	r nok ikke sett alt enda\, vi har nok mye å glede oss til i årene som 
	kommer også.\n\n\n\n\n\n\n\n	Sted er Quality hotell Oseberg\n\n\n\n\n\n\n
	\n	27. februar kl. 10:00 til 28. februar kl. 12:00\n\n\n\n\n\n\n\n	For på
	melding:\n\n\n\n\n\n\n\n	http://rupesbigfootevent.com\n\n\n
DTSTART;VALUE=DATE:20160227
DTEND;VALUE=DATE:20160229
END:VEVENT
BEGIN:VEVENT
SUMMARY:Tour De Shine
DTSTAMP:20130324T212353Z
SEQUENCE:1
UID:14-1-483381b4310817ada6e60e876399cdde@www.detailersclub.no
ORGANIZER;CN="Dennis":forum@detailersclub.no
DESCRIPTION:Tour De Shine Lillehammer\n\n \n\n[url=\"http://www.detaile
	rsclub.no/forum/topic/15718-aarets-tour-de-shine-gaar-til-lillehammer/\"]h
	ttp://www.detailersclub.no/forum/topic/15718-aarets-tour-de-shine-gaar-til
	-lillehammer/[/url]
DTSTART;VALUE=DATE:20130504
DTEND;VALUE=DATE:20130506
END:VEVENT
BEGIN:VEVENT
SUMMARY:DCN/Exint.no treff
DTSTAMP:20120827T061952Z
SEQUENCE:0
UID:12-1-483381b4310817ada6e60e876399cdde@www.detailersclub.no
ORGANIZER;CN="Dennis":forum@detailersclub.no
DESCRIPTION:\nDCN treff i samband med Exint Norge i Lillehammer den 8 se
	ptember 2012\n\n\n\nhttp://www.detailersclub.no/forum/topic/14340-exintnod
	cn-treff-den-8-september-2012/\n
DTSTART;VALUE=DATE:20120908
END:VEVENT
BEGIN:VEVENT
SUMMARY:Waxstock2012 - 26 august - England
DTSTAMP:20120712T142254Z
SEQUENCE:1
UID:11-1-483381b4310817ada6e60e876399cdde@www.detailersclub.no
ORGANIZER;CN="truhaa":forum@detailersclub.no
DESCRIPTION:\nBilpleiemesse i England\, nærmere bestemt Peterborough\, 
	UK\n\n\n\nFørste egne messe kun for bilpleie i Europa så vidt vi vet.\n\
	n\n\nSå har du muligheten til å ta turen over\, så kan du oppleve bilpl
	eienirvana hele\n\nsøndag 26 august.\n
DTSTART;VALUE=DATE:20120826
END:VEVENT
BEGIN:VEVENT
SUMMARY:Tour de shine 2012
DTSTAMP:20120524T133836Z
SEQUENCE:1
UID:10-1-483381b4310817ada6e60e876399cdde@www.detailersclub.no
ORGANIZER;CN="Dennis":forum@detailersclub.no
DESCRIPTION:\nEtter ønske fra tidligere deltagere og nye\, prøver vi 
	å få til en Tour de Shine også i 2012.\n\n\n\nDette er rett og slett en
	 hygge helg med bilpleie i fokus.\n\n\n\n\n\nAbsolutt alle er velkomne og 
	det hadde vært moro med noen nye fjes også i år =)\n\nhttp://www.detail
	ers...-de-shine-2012/\n
DTSTART;VALUE=DATE:20120629
DTEND;VALUE=DATE:20120702
END:VEVENT
BEGIN:VEVENT
SUMMARY:DCN treffet 2010
DTSTAMP:20100922T235435Z
SEQUENCE:1
UID:9-1-483381b4310817ada6e60e876399cdde@www.detailersclub.no
ORGANIZER;CN="Dennis":forum@detailersclub.no
DESCRIPTION:\nDetailersclub\n\nNorway\n\nTreff2010\n\nLillehammer\n\n\n\
	n\n\ntidspunktet er da fra\, 1200 til 1800 søndag den 26 september\n\n\n\
	nStedet er Lillehammer\, dvs i eller utenfor Swissvax sine lokaler. Adress
	en er Industrigata 24. \n\nFlott mulighet også til å ta Swissvax sitt ny
	e Bilpleiesenter der i nærmere øyensyn. Egen vaskehall gjør også at bi
	lvask er mulig.\n\n\n\nHer blir det sosialisert over en lav sko\, vi\, som
	 i team DCN har med litt av hvert oppover for testing\, paneler en kan tes
	te det på og en viftende finger om hvordan det kan\, bør eller skal gjø
	res også.\n\n\n\nDet blir ingen oppsett på noen kurstype der oppe\, men 
	det er nok noen som er der\, som en kan lure ut noen svar fra også.\n\n\n
	\n\n\nDe som stiller med salgsbod er ingen noviser inne dette faget:\n\n\n
	\n\n\n-  Swissvax\n\n-  Scandicshine\n\n-  Nanolotus\n\n\n\n\n\n\n\n\n\nMe
	r info her\n
DTSTART:20100926T020000Z
END:VEVENT
BEGIN:VEVENT
SUMMARY:Detailers Club treff 2009
DTSTAMP:20090810T202845Z
SEQUENCE:1
UID:7-1-483381b4310817ada6e60e876399cdde@www.detailersclub.no
ORGANIZER;CN="Dennis":forum@detailersclub.no
DESCRIPTION:\nDetailers Club treff 2009\n\n\n\nInformasjon finner du her
	\n
DTSTART:20090913T020000Z
END:VEVENT
BEGIN:VEVENT
SUMMARY:VACN Hovedtreff
DTSTAMP:20090603T215943Z
SEQUENCE:1
UID:6-1-483381b4310817ada6e60e876399cdde@www.detailersclub.no
ORGANIZER;CN="Bernhard":forum@detailersclub.no
DESCRIPTION:\nVålerbanen\, 6.-7.juni..  \n\n\n\nScandicshine og Swissva
	x kommer...\n
DTSTART:20090606T020000Z
END:VEVENT
BEGIN:VEVENT
SUMMARY:Kurs: Våtslip/polering med 3M og Godkjemi.com
DTSTAMP:20090529T184332Z
SEQUENCE:1
UID:4-1-483381b4310817ada6e60e876399cdde@www.detailersclub.no
ORGANIZER;CN="Dennis":forum@detailersclub.no
DESCRIPTION:\nTom Stensrud fra 3M Norge stiller atter en gang opp og hol
	der kurs for DCN's medlemmer\, denne gangen i de gamle lokalene til Toyota
	 Slemmestad i Slemmestadveien 67 A (rett ved grensen Asker-Røyken)\n\n\n\
	nTom Stensrud har jobbet for 3M en årrekke med opplæring av korrigering 
	i lakkerer- og bilpleiebransjen\, og er et vandrende leksikon i faget sitt
	!\n\n\n\nDet blir nyttig opplæring\, gode tilbud\, og muligheten for å 
	slå av en prat med likesinnede!\n
DTSTART:20090615T020000Z
END:VEVENT
BEGIN:VEVENT
SUMMARY:Julaften
DTSTAMP:20071209T191853Z
SEQUENCE:1
UID:2-1-483381b4310817ada6e60e876399cdde@www.detailersclub.no
ORGANIZER;CN="Tandis1":forum@detailersclub.no
DESCRIPTION:Fikk vi noe bra til jul?
DTSTART:20071224T010000Z
END:VEVENT
BEGIN:VEVENT
SUMMARY:Sandersen kan kjøre opp igjen!
DTSTAMP:20071205T144547Z
SEQUENCE:1
UID:1-1-483381b4310817ada6e60e876399cdde@www.detailersclub.no
ORGANIZER;CN="Sandersen":forum@detailersclub.no
DESCRIPTION:Endelig 8 lange månder over
DTSTART:20071218T010000Z
END:VEVENT
END:VCALENDAR
